BEGIN:VCALENDAR
VERSION:2.0
PRODID:-//Casino Royale in Sint Maarten - ECPv6.15.11//NONSGML v1.0//EN
CALSCALE:GREGORIAN
METHOD:PUBLISH
X-WR-CALNAME:Casino Royale in Sint Maarten
X-ORIGINAL-URL:https://playmaho.com
X-WR-CALDESC:Events for Casino Royale in Sint Maarten
REFRESH-INTERVAL;VALUE=DURATION:PT1H
X-Robots-Tag:noindex
X-PUBLISHED-TTL:PT1H
BEGIN:VTIMEZONE
TZID:America/Puerto_Rico
BEGIN:STANDARD
TZOFFSETFROM:-0400
TZOFFSETTO:-0400
TZNAME:AST
DTSTART:20250101T000000
END:STANDARD
END:VTIMEZONE
BEGIN:VEVENT
DTSTART;TZID=America/Puerto_Rico:20260425T203000
DTEND;TZID=America/Puerto_Rico:20260425T213000
DTSTAMP:20260424T084335
CREATED:20260406T080407Z
LAST-MODIFIED:20260406T080407Z
UID:10001216-1777149000-1777152600@playmaho.com
SUMMARY:Mike Price: The Rockstar Juggler
DESCRIPTION:Get ready for an electrifying performance as Mike Price combines comedy\, music\, and incredible juggling skills! Join us at the resort’s Casino Royale theatre for this FREE high-energy show.
URL:https://playmaho.com/event/mike-price-the-rockstar-juggler-2-2/2026-04-25/
LOCATION:Casino Royale Showroom\, Sint Maarten
ATTACH;FMTTYPE=image/jpeg:https://playmaho.com/wp-content/uploads/mike_price_2.jpg
END:VEVENT
BEGIN:VEVENT
DTSTART;TZID=America/Puerto_Rico:20260427T190000
DTEND;TZID=America/Puerto_Rico:20260427T210000
DTSTAMP:20260424T084335
CREATED:20260204T171842Z
LAST-MODIFIED:20260204T171842Z
UID:10001206-1777316400-1777323600@playmaho.com
SUMMARY:Mad Monday Slot Tournament
DESCRIPTION:Feel the RUSH of winning BIG at Casino Royale! Crash into our MAD MONDAY madness every week for our high-energy Slot Tournament with a $300 prize pool! \nHOW TO QUALIFY:\nRack up just 50 points within the week and SMASH your way into our FREE tournament action! \nTOURNAMENT DETAILS: \nEVERY preliminary round winner walks away with a prize! \nTop 6 highest scores BLAST into the final round\nFinalists battle it out for their share of the $300 PRIZE POOL! \nBring your A-game and HIT THE JACKPOT at Casino Royale—where we turn players into WINNERS!
URL:https://playmaho.com/event/mad-monday-slot-tournament-2/2026-04-27/
LOCATION:Casino Royale\, Rhine Rd\, Maho VIllage\, Sint Maarten
ATTACH;FMTTYPE=image/jpeg:https://playmaho.com/wp-content/uploads/CASINO_SlotMachines_013.jpg
END:VEVENT
BEGIN:VEVENT
DTSTART;TZID=America/Puerto_Rico:20260430T210000
DTEND;TZID=America/Puerto_Rico:20260430T220000
DTSTAMP:20260424T084335
CREATED:20260204T171613Z
LAST-MODIFIED:20260204T171614Z
UID:10001195-1777582800-1777586400@playmaho.com
SUMMARY:Thursday Raffle Nights
DESCRIPTION:Join our exciting raffle nights\, happening every Thursday. With a prize pool of $300 up for grabs\, there’s never been a better time to join the fun! \nRAFFLE RULES \n\nMust be a Casino Royale Club member to participate. Membership is free. Valid ID is required to open players club account.\nEvery player that uses their card gets 1 automatic entry (Everyone gets a chance to win).\nPlayers present using their card will earn one (1) entry.\nFor every one-hundred (100) slot points earned on the day of the raffle from 1pm until 8:45pm\, the player will receive another entry.\nTable players will earn extra entries for every $50 buy-in.\nEntries are placed in the raffle drum from 8:30pm.\nEntries will be reset to 0 after each drawing and will resume on the following drawing date at 1pm.\nDrawings will be held each week on Wednesday and Friday at 9:00pm.\nRaffle tickets will be deposited in the raffle drawing drum located at the Casino VIP desk.\nRaffle entries are eligible only for the day they are earned.\nA player is eligible to win only 2 times per day.\nEach drawing day\, a total of $300 in free play will be raffled.\nWinners’ names will be announced over the casino P/A system. Must be present to win. Players MUST BE PRESENT AT THE TIME OF THE DRAWING to claim their prize. If a player is not present\, then another name will be drawn until a winner is found.\nThe winner will be offered the possibility to choose among 4 hidden options.\nThe prizes will be $150\, $75\, $50\, $25.\nWinners will be announced until all prizes are gone.
URL:https://playmaho.com/event/thursday-raffle-nights-2/2026-04-30/
LOCATION:Casino Royale\, Rhine Rd\, Maho VIllage\, Sint Maarten
ATTACH;FMTTYPE=image/jpeg:https://playmaho.com/wp-content/uploads/thursday_raffle.jpg
END:VEVENT
END:VCALENDAR